BEGIN:VCALENDAR
VERSION:2.0
PRODID:-//AGVB - ECPv5.1.4//NONSGML v1.0//EN
CALSCALE:GREGORIAN
METHOD:PUBLISH
X-WR-CALNAME:AGVB
X-ORIGINAL-URL:https://entwicklung.agvb.de
X-WR-CALDESC:Veranstaltungen fÃ¼r AGVB
BEGIN:VTIMEZONE
TZID:Europe/Helsinki
BEGIN:DAYLIGHT
TZOFFSETFROM:+0200
TZOFFSETTO:+0300
TZNAME:EEST
DTSTART:20210328T010000
END:DAYLIGHT
BEGIN:STANDARD
TZOFFSETFROM:+0300
TZOFFSETTO:+0200
TZNAME:EET
DTSTART:20211031T010000
END:STANDARD
END:VTIMEZONE
BEGIN:VEVENT
DTSTART;TZID=Europe/Helsinki:20210118T170000
DTEND;TZID=Europe/Helsinki:20210118T200000
DTSTAMP:20260419T191243
CREATED:20201204T093359Z
LAST-MODIFIED:20201204T093421Z
UID:1847-1610989200-1611000000@entwicklung.agvb.de
SUMMARY:Online-Seminar: Impfungen - oder eine Ampulle Zuversicht?
DESCRIPTION:Mit der aktuellen Corona\nPandemie rÃ¼cken Impfungen wieder in den Fokus des\nÃ¶ffentlichen Interesses: kann es wie in der Vergangenheit mit den Impfstoffen gegen die Pocken oder die KinderlÃ¤hmung gelingen\, der Erkrankung den Schrecken zu nehmen? Welche Impfkonzepte tragen uns ins nÃ¤chste Jahr?\nWer soll\, wer kann\, wer mÃ¶chte geimpft werden?\nSchirmherrschaft: Prof. Dr. Barbara Schmidt\, Prof. Dr. Martina MÃ¼ller Schilling \n  \nVeranstaltungsflyer\n
URL:https://entwicklung.agvb.de/?tribe_events=online-seminar-impfungen-oder-eine-ampulle-zuversicht
LOCATION:Online
ORGANIZER;CN="Verein%20der%20Freunde%20und%20F%C3%B6rderer%20der%20Pflege%20am%20Universit%C3%A4tsklinikum%20Regensburg%20e.%20V.":MAILTO:thomas.bonkowski@ukr.de
END:VEVENT
END:VCALENDAR