BEGIN:VCALENDAR
VERSION:2.0
PRODID:-//AGVB - ECPv5.1.4//NONSGML v1.0//EN
CALSCALE:GREGORIAN
METHOD:PUBLISH
X-WR-CALNAME:AGVB
X-ORIGINAL-URL:https://entwicklung.agvb.de
X-WR-CALDESC:Veranstaltungen fÃ¼r AGVB
BEGIN:VTIMEZONE
TZID:Europe/Helsinki
BEGIN:DAYLIGHT
TZOFFSETFROM:+0200
TZOFFSETTO:+0300
TZNAME:EEST
DTSTART:20210328T010000
END:DAYLIGHT
BEGIN:STANDARD
TZOFFSETFROM:+0300
TZOFFSETTO:+0200
TZNAME:EET
DTSTART:20211031T010000
END:STANDARD
END:VTIMEZONE
BEGIN:VEVENT
DTSTART;TZID=Europe/Helsinki:20210204T180000
DTEND;TZID=Europe/Helsinki:20210204T191500
DTSTAMP:20260419T124827
CREATED:20201211T111508Z
LAST-MODIFIED:20201211T111536Z
UID:1884-1612461600-1612466100@entwicklung.agvb.de
SUMMARY:Online-Kurs: Achtsames Yoga fÃ¼r Einsteiger via Zoom
DESCRIPTION:Hiermit mÃ¶chten wir Ihnen 8×75 Minuten achtsames Yoga fÃ¼r Einsteiger anbieten. Sie haben einen vollen Terminplan\, Schichtdienst oder gar einen Termin verpasst?\nKein Problem! Der Online Kurs wird aufgezeichnet und ist als Stream eine\nWoche lang abrufbar. \nJeweils 18:00 &#8211; 19:15 Uhr ab 4. Februar 2021 immer donnerstags \n  \nVeranstaltungsflyer\n
URL:https://entwicklung.agvb.de/?tribe_events=online-kurs-achtsames-yoga-fuer-einsteiger-via-zoom
LOCATION:Online
ORGANIZER;CN="Verein%20der%20Freunde%20und%20F%C3%B6rderer%20der%20Pflege%20am%20Universit%C3%A4tsklinikum%20Regensburg%20e.%20V.":MAILTO:thomas.bonkowski@ukr.de
END:VEVENT
END:VCALENDAR